BEGIN:VCALENDAR
VERSION:2.0
PRODID:observatoire-ia.pantheonsorbonne.fr
X-WR-TIMEZONE:Europe/Paris
BEGIN:VTIMEZONE
TZID:Europe/Paris
X-LIC-LOCATION:Europe/Paris
BEGIN:DAYLIGHT
TZNAME:CEST
TZOFFSETFROM:+0100
TZOFFSETTO:+0200
DTSTART:20260329T010000
END:DAYLIGHT
BEGIN:DAYLIGHT
TZNAME:CEST
TZOFFSETFROM:+0100
TZOFFSETTO:+0200
DTSTART:20270328T010000
END:DAYLIGHT
BEGIN:STANDARD
TZNAME:CET
TZOFFSETFROM:+0200
TZOFFSETTO:+0100
DTSTART:20251026T010000
END:STANDARD
BEGIN:STANDARD
TZNAME:CET
TZOFFSETFROM:+0200
TZOFFSETTO:+0100
DTSTART:20261025T010000
END:STANDARD
END:VTIMEZONE
BEGIN:VEVENT
UID:b29e1ade17061c3f851204ee66f37e59
DTSTART;TZID=Europe/Paris:20260512T093000
SEQUENCE:0
TRANSP:OPAQUE
URL:https://observatoire-ia.pantheonsorbonne.fr/evenements
SUMMARY:Colloque IA &amp\; Cybersécurité
CLASS:PUBLIC
DESCRIPTION:Maison des Sciences Économiques (6e étage)\, 112 Bd de l’H
 ôpital\,\n75013 Paris
X-ALT-DESC;FMTTYPE=text/html:Maison des Sciences Économiques (6e étage)\,
  112 Bd de l’Hôpital\, 75013 Paris\n\n
DTSTAMP:20260413T085701Z
END:VEVENT
END:VCALENDAR