BEGIN:VCALENDAR
VERSION:2.0
PRODID:observatoire-ia.pantheonsorbonne.fr
X-WR-TIMEZONE:Europe/Paris
BEGIN:VTIMEZONE
TZID:Europe/Paris
X-LIC-LOCATION:Europe/Paris
BEGIN:DAYLIGHT
TZNAME:CEST
TZOFFSETFROM:+0100
TZOFFSETTO:+0200
DTSTART:20260329T010000
END:DAYLIGHT
BEGIN:DAYLIGHT
TZNAME:CEST
TZOFFSETFROM:+0100
TZOFFSETTO:+0200
DTSTART:20270328T010000
END:DAYLIGHT
BEGIN:STANDARD
TZNAME:CET
TZOFFSETFROM:+0200
TZOFFSETTO:+0100
DTSTART:20251026T010000
END:STANDARD
BEGIN:STANDARD
TZNAME:CET
TZOFFSETFROM:+0200
TZOFFSETTO:+0100
DTSTART:20261025T010000
END:STANDARD
END:VTIMEZONE
BEGIN:VEVENT
UID:3dd52c058f33cc6aa4bf0c5e679772ee
DTSTART;TZID=Europe/Paris:20260623T130000
SEQUENCE:0
TRANSP:OPAQUE
URL:https://observatoire-ia.pantheonsorbonne.fr/evenements
SUMMARY:Cycle de conférences IA &amp\; Société - Certificabilité des sy
 stèmes « AI-infused »
CLASS:PUBLIC
DESCRIPTION:Le Village by CA\, 55 rue de la Boétie 75008 Paris
X-ALT-DESC;FMTTYPE=text/html:Le Village by CA\, 55 rue de la Boétie 75008 
 Paris \n\n
DTSTAMP:20260416T133044Z
END:VEVENT
END:VCALENDAR